BEGIN:VCALENDAR
VERSION:2.0
PRODID:-//Empower Health and Aesthetic Institute - ECPv6.15.20//NONSGML v1.0//EN
CALSCALE:GREGORIAN
METHOD:PUBLISH
X-WR-CALNAME:Empower Health and Aesthetic Institute
X-ORIGINAL-URL:https://empowerhai.com
X-WR-CALDESC:Events for Empower Health and Aesthetic Institute
REFRESH-INTERVAL;VALUE=DURATION:PT1H
X-Robots-Tag:noindex
X-PUBLISHED-TTL:PT1H
BEGIN:VTIMEZONE
TZID:UTC
BEGIN:STANDARD
TZOFFSETFROM:+0000
TZOFFSETTO:+0000
TZNAME:UTC
DTSTART:20240101T000000
END:STANDARD
END:VTIMEZONE
BEGIN:VEVENT
DTSTART;TZID=UTC:20250930T083000
DTEND;TZID=UTC:20250930T123000
DTSTAMP:20260419T220036
CREATED:20250528T010936Z
LAST-MODIFIED:20250528T010936Z
UID:62130-1759221000-1759235400@empowerhai.com
SUMMARY:Tattoo Removal
DESCRIPTION:
URL:https://empowerhai.com/course/tattoo-removal-13/
CATEGORIES:Course
END:VEVENT
BEGIN:VEVENT
DTSTART;TZID=UTC:20250930T130000
DTEND;TZID=UTC:20250930T170000
DTSTAMP:20260419T220036
CREATED:20250528T011001Z
LAST-MODIFIED:20250528T011001Z
UID:62131-1759237200-1759251600@empowerhai.com
SUMMARY:Advanced Waxing Didactic
DESCRIPTION:
URL:https://empowerhai.com/course/advanced-waxing-didactic-12/
END:VEVENT
BEGIN:VEVENT
DTSTART;TZID=UTC:20251001T083000
DTEND;TZID=UTC:20251001T123000
DTSTAMP:20260419T220036
CREATED:20250528T011001Z
LAST-MODIFIED:20250528T011001Z
UID:62132-1759307400-1759321800@empowerhai.com
SUMMARY:Advanced Waxing Hands-On
DESCRIPTION:
URL:https://empowerhai.com/course/advanced-waxing-hands-on-12/
END:VEVENT
BEGIN:VEVENT
DTSTART;TZID=UTC:20251006T083000
DTEND;TZID=UTC:20251010T170000
DTSTAMP:20260419T220036
CREATED:20250224T202138Z
LAST-MODIFIED:20250224T202138Z
UID:61679-1759739400-1760115600@empowerhai.com
SUMMARY:LHR Level 1: Apprentice Didactic
DESCRIPTION:
URL:https://empowerhai.com/course/lhr-level-1-apprentice-didactic-10/
END:VEVENT
BEGIN:VEVENT
DTSTART;TZID=UTC:20251010T090000
DTEND;TZID=UTC:20251010T170000
DTSTAMP:20260419T220036
CREATED:20250224T201838Z
LAST-MODIFIED:20250224T201838Z
UID:61655-1760086800-1760115600@empowerhai.com
SUMMARY:Basic Neurotoxin
DESCRIPTION:
URL:https://empowerhai.com/course/basic-neurotoxin-10/
END:VEVENT
BEGIN:VEVENT
DTSTART;TZID=UTC:20251011T083000
DTEND;TZID=UTC:20251011T170000
DTSTAMP:20260419T220036
CREATED:20250224T202626Z
LAST-MODIFIED:20250224T202626Z
UID:61691-1760171400-1760202000@empowerhai.com
SUMMARY:LHR Level 2: Technician
DESCRIPTION:
URL:https://empowerhai.com/course/lhr-level-2-technician-10/
END:VEVENT
BEGIN:VEVENT
DTSTART;TZID=UTC:20251011T083000
DTEND;TZID=UTC:20251011T170000
DTSTAMP:20260419T220036
CREATED:20250224T203411Z
LAST-MODIFIED:20250224T203411Z
UID:61703-1760171400-1760202000@empowerhai.com
SUMMARY:LHR Level 3: Senior
DESCRIPTION:
URL:https://empowerhai.com/course/lhr-level-3-senior-10/
END:VEVENT
BEGIN:VEVENT
DTSTART;TZID=UTC:20251011T090000
DTEND;TZID=UTC:20251011T170000
DTSTAMP:20260419T220036
CREATED:20250224T201922Z
LAST-MODIFIED:20250224T201922Z
UID:61667-1760173200-1760202000@empowerhai.com
SUMMARY:Basic Filler
DESCRIPTION:
URL:https://empowerhai.com/course/basic-filler-10/
END:VEVENT
BEGIN:VEVENT
DTSTART;TZID=UTC:20251020T083000
DTEND;TZID=UTC:20251020T123000
DTSTAMP:20260419T220036
CREATED:20250224T203628Z
LAST-MODIFIED:20250224T203628Z
UID:61715-1760949000-1760963400@empowerhai.com
SUMMARY:Microneedling
DESCRIPTION:
URL:https://empowerhai.com/course/microneedling-10/
END:VEVENT
BEGIN:VEVENT
DTSTART;TZID=UTC:20251020T130000
DTEND;TZID=UTC:20251020T170000
DTSTAMP:20260419T220036
CREATED:20250224T204404Z
LAST-MODIFIED:20250224T204404Z
UID:61729-1760965200-1760979600@empowerhai.com
SUMMARY:Hydrafacial
DESCRIPTION:
URL:https://empowerhai.com/course/hydrafacial-10/
END:VEVENT
BEGIN:VEVENT
DTSTART;TZID=UTC:20251021T083000
DTEND;TZID=UTC:20251021T123000
DTSTAMP:20260419T220036
CREATED:20250224T204442Z
LAST-MODIFIED:20250224T204442Z
UID:61742-1761035400-1761049800@empowerhai.com
SUMMARY:Chemical Peels
DESCRIPTION:
URL:https://empowerhai.com/course/chemical-peels-10/
END:VEVENT
BEGIN:VEVENT
DTSTART;TZID=UTC:20251021T130000
DTEND;TZID=UTC:20251021T170000
DTSTAMP:20260419T220036
CREATED:20250224T204517Z
LAST-MODIFIED:20250224T204517Z
UID:61755-1761051600-1761066000@empowerhai.com
SUMMARY:Fibroblast
DESCRIPTION:
URL:https://empowerhai.com/course/fibroblast-10/
END:VEVENT
BEGIN:VEVENT
DTSTART;TZID=UTC:20251022T083000
DTEND;TZID=UTC:20251022T170000
DTSTAMP:20260419T220036
CREATED:20250224T204535Z
LAST-MODIFIED:20250224T204535Z
UID:61768-1761121800-1761152400@empowerhai.com
SUMMARY:Body Contouring Coolsculpting
DESCRIPTION:
URL:https://empowerhai.com/course/body-contouring-coolsculpting-10/
END:VEVENT
BEGIN:VEVENT
DTSTART;TZID=UTC:20251023T083000
DTEND;TZID=UTC:20251023T123000
DTSTAMP:20260419T220036
CREATED:20250224T204548Z
LAST-MODIFIED:20250224T204548Z
UID:61780-1761208200-1761222600@empowerhai.com
SUMMARY:Body Contouring Velashape
DESCRIPTION:
URL:https://empowerhai.com/course/body-contouring-velashape-10/
END:VEVENT
BEGIN:VEVENT
DTSTART;TZID=UTC:20251024T083000
DTEND;TZID=UTC:20251024T170000
DTSTAMP:20260419T220036
CREATED:20250528T011001Z
LAST-MODIFIED:20250528T011001Z
UID:62133-1761294600-1761325200@empowerhai.com
SUMMARY:Intense Pulse Light - Hands On
DESCRIPTION:
URL:https://empowerhai.com/course/intense-pulse-light-hands-on-14/
END:VEVENT
BEGIN:VEVENT
DTSTART;TZID=UTC:20251027T083000
DTEND;TZID=UTC:20251027T123000
DTSTAMP:20260419T220036
CREATED:20250528T011001Z
LAST-MODIFIED:20250528T011001Z
UID:62134-1761553800-1761568200@empowerhai.com
SUMMARY:Microdermabrasion
DESCRIPTION:
URL:https://empowerhai.com/course/microdermabrasion-13/
END:VEVENT
BEGIN:VEVENT
DTSTART;TZID=UTC:20251027T130000
DTEND;TZID=UTC:20251027T170000
DTSTAMP:20260419T220036
CREATED:20250528T011002Z
LAST-MODIFIED:20250528T011002Z
UID:62135-1761570000-1761584400@empowerhai.com
SUMMARY:Dermaplaning
DESCRIPTION:
URL:https://empowerhai.com/course/dermaplaning-13/
END:VEVENT
BEGIN:VEVENT
DTSTART;TZID=UTC:20251028T083000
DTEND;TZID=UTC:20251028T123000
DTSTAMP:20260419T220036
CREATED:20250528T011131Z
LAST-MODIFIED:20250528T011131Z
UID:62136-1761640200-1761654600@empowerhai.com
SUMMARY:Tattoo Removal
DESCRIPTION:
URL:https://empowerhai.com/course/tattoo-removal-14/
CATEGORIES:Course
END:VEVENT
BEGIN:VEVENT
DTSTART;TZID=UTC:20251028T130000
DTEND;TZID=UTC:20251028T170000
DTSTAMP:20260419T220036
CREATED:20250528T011132Z
LAST-MODIFIED:20250528T011132Z
UID:62137-1761656400-1761670800@empowerhai.com
SUMMARY:Advanced Waxing Didactic
DESCRIPTION:
URL:https://empowerhai.com/course/advanced-waxing-didactic-13/
CATEGORIES:Course
END:VEVENT
BEGIN:VEVENT
DTSTART;TZID=UTC:20251029T083000
DTEND;TZID=UTC:20251029T123000
DTSTAMP:20260419T220036
CREATED:20250528T011132Z
LAST-MODIFIED:20250528T011132Z
UID:62138-1761726600-1761741000@empowerhai.com
SUMMARY:Advanced Waxing Hands-On
DESCRIPTION:
URL:https://empowerhai.com/course/advanced-waxing-hands-on-13/
CATEGORIES:Course
END:VEVENT
BEGIN:VEVENT
DTSTART;TZID=UTC:20251103T083000
DTEND;TZID=UTC:20251107T170000
DTSTAMP:20260419T220036
CREATED:20250224T202138Z
LAST-MODIFIED:20250224T202138Z
UID:61680-1762158600-1762534800@empowerhai.com
SUMMARY:LHR Level 1: Apprentice Didactic
DESCRIPTION:
URL:https://empowerhai.com/course/lhr-level-1-apprentice-didactic-11/
END:VEVENT
BEGIN:VEVENT
DTSTART;TZID=UTC:20251107T090000
DTEND;TZID=UTC:20251107T170000
DTSTAMP:20260419T220036
CREATED:20250224T201852Z
LAST-MODIFIED:20250224T201852Z
UID:61656-1762506000-1762534800@empowerhai.com
SUMMARY:Basic Neurotoxin
DESCRIPTION:
URL:https://empowerhai.com/course/basic-neurotoxin-11/
END:VEVENT
BEGIN:VEVENT
DTSTART;TZID=UTC:20251108T083000
DTEND;TZID=UTC:20251108T170000
DTSTAMP:20260419T220036
CREATED:20250224T202626Z
LAST-MODIFIED:20250224T202626Z
UID:61692-1762590600-1762621200@empowerhai.com
SUMMARY:LHR Level 2: Technician
DESCRIPTION:
URL:https://empowerhai.com/course/lhr-level-2-technician-11/
END:VEVENT
BEGIN:VEVENT
DTSTART;TZID=UTC:20251108T083000
DTEND;TZID=UTC:20251108T170000
DTSTAMP:20260419T220036
CREATED:20250224T203411Z
LAST-MODIFIED:20250224T203411Z
UID:61704-1762590600-1762621200@empowerhai.com
SUMMARY:LHR Level 3: Senior
DESCRIPTION:
URL:https://empowerhai.com/course/lhr-level-3-senior-11/
END:VEVENT
BEGIN:VEVENT
DTSTART;TZID=UTC:20251108T090000
DTEND;TZID=UTC:20251108T170000
DTSTAMP:20260419T220036
CREATED:20250224T201923Z
LAST-MODIFIED:20250224T201923Z
UID:61668-1762592400-1762621200@empowerhai.com
SUMMARY:Basic Filler
DESCRIPTION:
URL:https://empowerhai.com/course/basic-filler-11/
END:VEVENT
BEGIN:VEVENT
DTSTART;TZID=UTC:20251117T083000
DTEND;TZID=UTC:20251117T123000
DTSTAMP:20260419T220036
CREATED:20250224T203741Z
LAST-MODIFIED:20250224T203741Z
UID:61716-1763368200-1763382600@empowerhai.com
SUMMARY:Microneedling
DESCRIPTION:
URL:https://empowerhai.com/course/microneedling-11/
END:VEVENT
BEGIN:VEVENT
DTSTART;TZID=UTC:20251117T130000
DTEND;TZID=UTC:20251117T170000
DTSTAMP:20260419T220036
CREATED:20250224T204404Z
LAST-MODIFIED:20250224T204404Z
UID:61730-1763384400-1763398800@empowerhai.com
SUMMARY:Hydrafacial
DESCRIPTION:
URL:https://empowerhai.com/course/hydrafacial-11/
END:VEVENT
BEGIN:VEVENT
DTSTART;TZID=UTC:20251118T083000
DTEND;TZID=UTC:20251118T123000
DTSTAMP:20260419T220036
CREATED:20250224T204442Z
LAST-MODIFIED:20250224T204442Z
UID:61743-1763454600-1763469000@empowerhai.com
SUMMARY:Chemical Peels
DESCRIPTION:
URL:https://empowerhai.com/course/chemical-peels-11/
END:VEVENT
BEGIN:VEVENT
DTSTART;TZID=UTC:20251118T130000
DTEND;TZID=UTC:20251118T170000
DTSTAMP:20260419T220036
CREATED:20250224T204517Z
LAST-MODIFIED:20250224T204517Z
UID:61756-1763470800-1763485200@empowerhai.com
SUMMARY:Fibroblast
DESCRIPTION:
URL:https://empowerhai.com/course/fibroblast-11/
END:VEVENT
BEGIN:VEVENT
DTSTART;TZID=UTC:20251119T083000
DTEND;TZID=UTC:20251119T170000
DTSTAMP:20260419T220036
CREATED:20250224T204535Z
LAST-MODIFIED:20250224T204535Z
UID:61769-1763541000-1763571600@empowerhai.com
SUMMARY:Body Contouring Coolsculpting
DESCRIPTION:
URL:https://empowerhai.com/course/body-contouring-coolsculpting-11/
END:VEVENT
END:VCALENDAR