BEGIN:VCALENDAR
VERSION:2.0
PRODID:-//Empower Health and Aesthetic Institute - ECPv6.15.20//NONSGML v1.0//EN
CALSCALE:GREGORIAN
METHOD:PUBLISH
X-ORIGINAL-URL:https://empowerhai.com
X-WR-CALDESC:Events for Empower Health and Aesthetic Institute
REFRESH-INTERVAL;VALUE=DURATION:PT1H
X-Robots-Tag:noindex
X-PUBLISHED-TTL:PT1H
BEGIN:VTIMEZONE
TZID:UTC
BEGIN:STANDARD
TZOFFSETFROM:+0000
TZOFFSETTO:+0000
TZNAME:UTC
DTSTART:20240101T000000
END:STANDARD
END:VTIMEZONE
BEGIN:VEVENT
DTSTART;TZID=UTC:20250728T130000
DTEND;TZID=UTC:20250728T170000
DTSTAMP:20260419T174634
CREATED:20250528T010533Z
LAST-MODIFIED:20250528T010533Z
UID:62117-1753707600-1753722000@empowerhai.com
SUMMARY:Dermaplaning
DESCRIPTION:
URL:https://empowerhai.com/course/dermaplaning-10/
CATEGORIES:Course
END:VEVENT
BEGIN:VEVENT
DTSTART;TZID=UTC:20250729T083000
DTEND;TZID=UTC:20250729T123000
DTSTAMP:20260419T174634
CREATED:20250528T010533Z
LAST-MODIFIED:20250528T010533Z
UID:62118-1753777800-1753792200@empowerhai.com
SUMMARY:Tattoo Removal
DESCRIPTION:
URL:https://empowerhai.com/course/tattoo-removal-11/
CATEGORIES:Course
END:VEVENT
BEGIN:VEVENT
DTSTART;TZID=UTC:20250729T130000
DTEND;TZID=UTC:20250729T170000
DTSTAMP:20260419T174634
CREATED:20250528T010533Z
LAST-MODIFIED:20250528T010533Z
UID:62119-1753794000-1753808400@empowerhai.com
SUMMARY:Advanced Waxing Didactic
DESCRIPTION:
URL:https://empowerhai.com/course/advanced-waxing-didactic-10/
CATEGORIES:Course
END:VEVENT
BEGIN:VEVENT
DTSTART;TZID=UTC:20250730T083000
DTEND;TZID=UTC:20250730T123000
DTSTAMP:20260419T174634
CREATED:20250528T010533Z
LAST-MODIFIED:20250528T010533Z
UID:62120-1753864200-1753878600@empowerhai.com
SUMMARY:Advanced Waxing Hands-On
DESCRIPTION:
URL:https://empowerhai.com/course/advanced-waxing-hands-on-10/
CATEGORIES:Course
END:VEVENT
BEGIN:VEVENT
DTSTART;TZID=UTC:20250810T083000
DTEND;TZID=UTC:20250814T170000
DTSTAMP:20260419T174634
CREATED:20250224T202137Z
LAST-MODIFIED:20260129T170053Z
UID:61677-1754814600-1755190800@empowerhai.com
SUMMARY:LHR Level 1: Apprentice Didactic
DESCRIPTION:
URL:https://empowerhai.com/course/lhr-level-1-apprentice-didactic-8/
END:VEVENT
BEGIN:VEVENT
DTSTART;TZID=UTC:20250814T090000
DTEND;TZID=UTC:20250814T170000
DTSTAMP:20260419T174634
CREATED:20250224T201837Z
LAST-MODIFIED:20260129T165947Z
UID:61653-1755162000-1755190800@empowerhai.com
SUMMARY:Basic Neurotoxin
DESCRIPTION:
URL:https://empowerhai.com/course/basic-neurotoxin-8/
END:VEVENT
BEGIN:VEVENT
DTSTART;TZID=UTC:20250815T090000
DTEND;TZID=UTC:20250815T170000
DTSTAMP:20260419T174634
CREATED:20250224T201908Z
LAST-MODIFIED:20260129T170018Z
UID:61665-1755248400-1755277200@empowerhai.com
SUMMARY:Basic Filler
DESCRIPTION:
URL:https://empowerhai.com/course/basic-filler-8/
END:VEVENT
BEGIN:VEVENT
DTSTART;TZID=UTC:20250816T083000
DTEND;TZID=UTC:20250816T170000
DTSTAMP:20260419T174634
CREATED:20250224T202539Z
LAST-MODIFIED:20260129T170118Z
UID:61689-1755333000-1755363600@empowerhai.com
SUMMARY:LHR Level 2: Technician
DESCRIPTION:
URL:https://empowerhai.com/course/lhr-level-2-technician-8/
END:VEVENT
BEGIN:VEVENT
DTSTART;TZID=UTC:20250816T083000
DTEND;TZID=UTC:20250816T170000
DTSTAMP:20260419T174634
CREATED:20250224T203410Z
LAST-MODIFIED:20260129T170207Z
UID:61701-1755333000-1755363600@empowerhai.com
SUMMARY:LHR Level 3: Senior
DESCRIPTION:
URL:https://empowerhai.com/course/lhr-level-3-senior-8/
END:VEVENT
BEGIN:VEVENT
DTSTART;TZID=UTC:20250824T083000
DTEND;TZID=UTC:20250824T123000
DTSTAMP:20260419T174634
CREATED:20250224T203627Z
LAST-MODIFIED:20260129T170238Z
UID:61713-1756024200-1756038600@empowerhai.com
SUMMARY:Microneedling
DESCRIPTION:
URL:https://empowerhai.com/course/microneedling-8/
END:VEVENT
BEGIN:VEVENT
DTSTART;TZID=UTC:20250824T130000
DTEND;TZID=UTC:20250824T170000
DTSTAMP:20260419T174634
CREATED:20250224T203802Z
LAST-MODIFIED:20260129T170245Z
UID:61725-1756040400-1756054800@empowerhai.com
SUMMARY:Hydrafacial
DESCRIPTION:
URL:https://empowerhai.com/course/hydrafacial-8/
END:VEVENT
BEGIN:VEVENT
DTSTART;TZID=UTC:20250825T083000
DTEND;TZID=UTC:20250825T123000
DTSTAMP:20260419T174634
CREATED:20250224T204441Z
LAST-MODIFIED:20260129T170334Z
UID:61740-1756110600-1756125000@empowerhai.com
SUMMARY:Chemical Peels
DESCRIPTION:
URL:https://empowerhai.com/course/chemical-peels-8/
END:VEVENT
BEGIN:VEVENT
DTSTART;TZID=UTC:20250825T130000
DTEND;TZID=UTC:20250825T170000
DTSTAMP:20260419T174634
CREATED:20250224T204505Z
LAST-MODIFIED:20260129T170340Z
UID:61752-1756126800-1756141200@empowerhai.com
SUMMARY:Fibroblast
DESCRIPTION:
URL:https://empowerhai.com/course/fibroblast-8/
END:VEVENT
BEGIN:VEVENT
DTSTART;TZID=UTC:20250826T083000
DTEND;TZID=UTC:20250826T170000
DTSTAMP:20260419T174634
CREATED:20260129T170856Z
LAST-MODIFIED:20260129T171007Z
UID:62761-1756197000-1756227600@empowerhai.com
SUMMARY:Body Contouring Coolsculpting
DESCRIPTION:
URL:https://empowerhai.com/course/body-contouring-coolsculpting-25/
END:VEVENT
BEGIN:VEVENT
DTSTART;TZID=UTC:20250826T130000
DTEND;TZID=UTC:20250826T170000
DTSTAMP:20260419T174634
CREATED:20250528T010735Z
LAST-MODIFIED:20250528T010735Z
UID:62125-1756213200-1756227600@empowerhai.com
SUMMARY:Advanced Waxing Didactic
DESCRIPTION:
URL:https://empowerhai.com/course/advanced-waxing-didactic-11/
CATEGORIES:Course
END:VEVENT
BEGIN:VEVENT
DTSTART;TZID=UTC:20250827T083000
DTEND;TZID=UTC:20250827T123000
DTSTAMP:20260419T174634
CREATED:20250224T204547Z
LAST-MODIFIED:20260129T170507Z
UID:61778-1756283400-1756297800@empowerhai.com
SUMMARY:Body Contouring Velashape
DESCRIPTION:
URL:https://empowerhai.com/course/body-contouring-velashape-8/
END:VEVENT
BEGIN:VEVENT
DTSTART;TZID=UTC:20250827T083000
DTEND;TZID=UTC:20250827T123000
DTSTAMP:20260419T174634
CREATED:20250528T010935Z
LAST-MODIFIED:20250528T010935Z
UID:62126-1756283400-1756297800@empowerhai.com
SUMMARY:Advanced Waxing Hands-On
DESCRIPTION:
URL:https://empowerhai.com/course/advanced-waxing-hands-on-11/
CATEGORIES:Course
END:VEVENT
BEGIN:VEVENT
DTSTART;TZID=UTC:20250827T130000
DTEND;TZID=UTC:20250827T170000
DTSTAMP:20260419T174634
CREATED:20250224T204616Z
LAST-MODIFIED:20260129T170536Z
UID:61790-1756299600-1756314000@empowerhai.com
SUMMARY:Intense Pulse Light & Demo
DESCRIPTION:
URL:https://empowerhai.com/course/intense-pulse-light-demo-8/
END:VEVENT
BEGIN:VEVENT
DTSTART;TZID=UTC:20250828T083000
DTEND;TZID=UTC:20250828T170000
DTSTAMP:20260419T174634
CREATED:20250528T010733Z
LAST-MODIFIED:20260129T170549Z
UID:62121-1756369800-1756400400@empowerhai.com
SUMMARY:Intense Pulse Light - Hands On
DESCRIPTION:
URL:https://empowerhai.com/course/intense-pulse-light-hands-on-12/
CATEGORIES:Course
END:VEVENT
BEGIN:VEVENT
DTSTART;TZID=UTC:20250831T083000
DTEND;TZID=UTC:20250831T123000
DTSTAMP:20260419T174634
CREATED:20250528T010734Z
LAST-MODIFIED:20260129T170638Z
UID:62122-1756629000-1756643400@empowerhai.com
SUMMARY:Microdermabrasion
DESCRIPTION:
URL:https://empowerhai.com/course/microdermabrasion-11/
CATEGORIES:Course
END:VEVENT
BEGIN:VEVENT
DTSTART;TZID=UTC:20250831T130000
DTEND;TZID=UTC:20250831T170000
DTSTAMP:20260419T174634
CREATED:20250528T010734Z
LAST-MODIFIED:20260129T170648Z
UID:62123-1756645200-1756659600@empowerhai.com
SUMMARY:Dermaplaning
DESCRIPTION:
URL:https://empowerhai.com/course/dermaplaning-11/
CATEGORIES:Course
END:VEVENT
BEGIN:VEVENT
DTSTART;TZID=UTC:20250901T083000
DTEND;TZID=UTC:20250901T123000
DTSTAMP:20260419T174634
CREATED:20250528T010734Z
LAST-MODIFIED:20260129T170714Z
UID:62124-1756715400-1756729800@empowerhai.com
SUMMARY:Tattoo Removal
DESCRIPTION:
URL:https://empowerhai.com/course/tattoo-removal-12/
CATEGORIES:Course
END:VEVENT
BEGIN:VEVENT
DTSTART;TZID=UTC:20250908T083000
DTEND;TZID=UTC:20250912T170000
DTSTAMP:20260419T174634
CREATED:20250224T202137Z
LAST-MODIFIED:20250224T202137Z
UID:61678-1757320200-1757696400@empowerhai.com
SUMMARY:LHR Level 1: Apprentice Didactic
DESCRIPTION:
URL:https://empowerhai.com/course/lhr-level-1-apprentice-didactic-9/
END:VEVENT
BEGIN:VEVENT
DTSTART;TZID=UTC:20250912T090000
DTEND;TZID=UTC:20250912T170000
DTSTAMP:20260419T174634
CREATED:20250224T201838Z
LAST-MODIFIED:20250224T201838Z
UID:61654-1757667600-1757696400@empowerhai.com
SUMMARY:Basic Neurotoxin
DESCRIPTION:
URL:https://empowerhai.com/course/basic-neurotoxin-9/
END:VEVENT
BEGIN:VEVENT
DTSTART;TZID=UTC:20250913T083000
DTEND;TZID=UTC:20250913T170000
DTSTAMP:20260419T174634
CREATED:20250224T202539Z
LAST-MODIFIED:20250224T202539Z
UID:61690-1757752200-1757782800@empowerhai.com
SUMMARY:LHR Level 2: Technician
DESCRIPTION:
URL:https://empowerhai.com/course/lhr-level-2-technician-9/
END:VEVENT
BEGIN:VEVENT
DTSTART;TZID=UTC:20250913T083000
DTEND;TZID=UTC:20250913T170000
DTSTAMP:20260419T174634
CREATED:20250224T203410Z
LAST-MODIFIED:20250224T203410Z
UID:61702-1757752200-1757782800@empowerhai.com
SUMMARY:LHR Level 3: Senior
DESCRIPTION:
URL:https://empowerhai.com/course/lhr-level-3-senior-9/
END:VEVENT
BEGIN:VEVENT
DTSTART;TZID=UTC:20250913T090000
DTEND;TZID=UTC:20250913T170000
DTSTAMP:20260419T174634
CREATED:20250224T201922Z
LAST-MODIFIED:20250224T201922Z
UID:61666-1757754000-1757782800@empowerhai.com
SUMMARY:Basic Filler
DESCRIPTION:
URL:https://empowerhai.com/course/basic-filler-9/
END:VEVENT
BEGIN:VEVENT
DTSTART;TZID=UTC:20250922T083000
DTEND;TZID=UTC:20250922T123000
DTSTAMP:20260419T174634
CREATED:20250224T203627Z
LAST-MODIFIED:20250224T203627Z
UID:61714-1758529800-1758544200@empowerhai.com
SUMMARY:Microneedling
DESCRIPTION:
URL:https://empowerhai.com/course/microneedling-9/
END:VEVENT
BEGIN:VEVENT
DTSTART;TZID=UTC:20250922T130000
DTEND;TZID=UTC:20250922T170000
DTSTAMP:20260419T174634
CREATED:20250224T204404Z
LAST-MODIFIED:20250224T204404Z
UID:61728-1758546000-1758560400@empowerhai.com
SUMMARY:Hydrafacial
DESCRIPTION:
URL:https://empowerhai.com/course/hydrafacial-9/
END:VEVENT
BEGIN:VEVENT
DTSTART;TZID=UTC:20250923T083000
DTEND;TZID=UTC:20250923T123000
DTSTAMP:20260419T174634
CREATED:20250224T204442Z
LAST-MODIFIED:20250224T204442Z
UID:61741-1758616200-1758630600@empowerhai.com
SUMMARY:Chemical Peels
DESCRIPTION:
URL:https://empowerhai.com/course/chemical-peels-9/
END:VEVENT
END:VCALENDAR