BEGIN:VCALENDAR
VERSION:2.0
PRODID:-//Empower Health and Aesthetic Institute - ECPv6.15.20//NONSGML v1.0//EN
CALSCALE:GREGORIAN
METHOD:PUBLISH
X-ORIGINAL-URL:https://empowerhai.com
X-WR-CALDESC:Events for Empower Health and Aesthetic Institute
REFRESH-INTERVAL;VALUE=DURATION:PT1H
X-Robots-Tag:noindex
X-PUBLISHED-TTL:PT1H
BEGIN:VTIMEZONE
TZID:UTC
BEGIN:STANDARD
TZOFFSETFROM:+0000
TZOFFSETTO:+0000
TZNAME:UTC
DTSTART:20240101T000000
END:STANDARD
END:VTIMEZONE
BEGIN:VEVENT
DTSTART;TZID=UTC:20251216T083000
DTEND;TZID=UTC:20251216T123000
DTSTAMP:20260421T170152
CREATED:20250528T011346Z
LAST-MODIFIED:20250528T011346Z
UID:62148-1765873800-1765888200@empowerhai.com
SUMMARY:Tattoo Removal
DESCRIPTION:
URL:https://empowerhai.com/course/tattoo-removal-16/
CATEGORIES:Course
END:VEVENT
BEGIN:VEVENT
DTSTART;TZID=UTC:20251215T130000
DTEND;TZID=UTC:20251215T170000
DTSTAMP:20260421T170152
CREATED:20250528T011346Z
LAST-MODIFIED:20250528T011346Z
UID:62147-1765803600-1765818000@empowerhai.com
SUMMARY:Dermaplaning
DESCRIPTION:
URL:https://empowerhai.com/course/dermaplaning-15/
CATEGORIES:Course
END:VEVENT
BEGIN:VEVENT
DTSTART;TZID=UTC:20251215T083000
DTEND;TZID=UTC:20251215T123000
DTSTAMP:20260421T170152
CREATED:20250528T011345Z
LAST-MODIFIED:20250528T011345Z
UID:62146-1765787400-1765801800@empowerhai.com
SUMMARY:Microdermabrasion
DESCRIPTION:
URL:https://empowerhai.com/course/microdermabrasion-15/
CATEGORIES:Course
END:VEVENT
BEGIN:VEVENT
DTSTART;TZID=UTC:20251212T083000
DTEND;TZID=UTC:20251212T170000
DTSTAMP:20260421T170152
CREATED:20250528T011146Z
LAST-MODIFIED:20250528T011146Z
UID:62145-1765528200-1765558800@empowerhai.com
SUMMARY:Intense Pulse Light - Hands On
DESCRIPTION:
URL:https://empowerhai.com/course/intense-pulse-light-hands-on-16/
CATEGORIES:Course
END:VEVENT
BEGIN:VEVENT
DTSTART;TZID=UTC:20251211T083000
DTEND;TZID=UTC:20251211T123000
DTSTAMP:20260421T170152
CREATED:20250224T204607Z
LAST-MODIFIED:20250523T190044Z
UID:61782-1765441800-1765456200@empowerhai.com
SUMMARY:Body Contouring Velashape
DESCRIPTION:
URL:https://empowerhai.com/course/body-contouring-velashape-12/
LOCATION:Empower Health & Aesthetic Institute\, 5445 La Sierra Dr.\, Suite 400\, Dallas\, TX\, 75231\, United States
END:VEVENT
BEGIN:VEVENT
DTSTART;TZID=UTC:20251210T083000
DTEND;TZID=UTC:20251210T170000
DTSTAMP:20260421T170152
CREATED:20250224T204535Z
LAST-MODIFIED:20250224T204535Z
UID:61770-1765355400-1765386000@empowerhai.com
SUMMARY:Body Contouring Coolsculpting
DESCRIPTION:
URL:https://empowerhai.com/course/body-contouring-coolsculpting-12/
END:VEVENT
BEGIN:VEVENT
DTSTART;TZID=UTC:20251209T130000
DTEND;TZID=UTC:20251209T170000
DTSTAMP:20260421T170152
CREATED:20250224T204517Z
LAST-MODIFIED:20250224T204517Z
UID:61757-1765285200-1765299600@empowerhai.com
SUMMARY:Fibroblast
DESCRIPTION:
URL:https://empowerhai.com/course/fibroblast-12/
END:VEVENT
BEGIN:VEVENT
DTSTART;TZID=UTC:20251209T083000
DTEND;TZID=UTC:20251209T123000
DTSTAMP:20260421T170152
CREATED:20250224T204459Z
LAST-MODIFIED:20250224T204459Z
UID:61744-1765269000-1765283400@empowerhai.com
SUMMARY:Chemical Peels
DESCRIPTION:
URL:https://empowerhai.com/course/chemical-peels-12/
END:VEVENT
BEGIN:VEVENT
DTSTART;TZID=UTC:20251208T130000
DTEND;TZID=UTC:20251208T170000
DTSTAMP:20260421T170152
CREATED:20250224T204405Z
LAST-MODIFIED:20250224T204405Z
UID:61731-1765198800-1765213200@empowerhai.com
SUMMARY:Hydrafacial
DESCRIPTION:
URL:https://empowerhai.com/course/hydrafacial-12/
END:VEVENT
BEGIN:VEVENT
DTSTART;TZID=UTC:20251208T083000
DTEND;TZID=UTC:20251208T123000
DTSTAMP:20260421T170152
CREATED:20250224T203742Z
LAST-MODIFIED:20250224T203742Z
UID:61717-1765182600-1765197000@empowerhai.com
SUMMARY:Microneedling
DESCRIPTION:
URL:https://empowerhai.com/course/microneedling-12/
END:VEVENT
BEGIN:VEVENT
DTSTART;TZID=UTC:20251206T083000
DTEND;TZID=UTC:20251206T170000
DTSTAMP:20260421T170152
CREATED:20250224T203411Z
LAST-MODIFIED:20250224T203411Z
UID:61705-1765009800-1765040400@empowerhai.com
SUMMARY:LHR Level 3: Senior
DESCRIPTION:
URL:https://empowerhai.com/course/lhr-level-3-senior-12/
END:VEVENT
BEGIN:VEVENT
DTSTART;TZID=UTC:20251206T083000
DTEND;TZID=UTC:20251206T170000
DTSTAMP:20260421T170152
CREATED:20250224T202627Z
LAST-MODIFIED:20250224T202627Z
UID:61693-1765009800-1765040400@empowerhai.com
SUMMARY:LHR Level 2: Technician
DESCRIPTION:
URL:https://empowerhai.com/course/lhr-level-2-technician-12/
END:VEVENT
BEGIN:VEVENT
DTSTART;TZID=UTC:20251201T083000
DTEND;TZID=UTC:20251205T170000
DTSTAMP:20260421T170152
CREATED:20250224T202338Z
LAST-MODIFIED:20250224T202338Z
UID:61681-1764577800-1764954000@empowerhai.com
SUMMARY:LHR Level 1: Apprentice Didactic
DESCRIPTION:
URL:https://empowerhai.com/course/lhr-level-1-apprentice-didactic-12/
END:VEVENT
BEGIN:VEVENT
DTSTART;TZID=UTC:20251126T083000
DTEND;TZID=UTC:20251126T123000
DTSTAMP:20260421T170152
CREATED:20250528T011145Z
LAST-MODIFIED:20250528T011145Z
UID:62144-1764145800-1764160200@empowerhai.com
SUMMARY:Advanced Waxing Hands-On
DESCRIPTION:
URL:https://empowerhai.com/course/advanced-waxing-hands-on-14/
CATEGORIES:Course
END:VEVENT
BEGIN:VEVENT
DTSTART;TZID=UTC:20251125T130000
DTEND;TZID=UTC:20251125T170000
DTSTAMP:20260421T170152
CREATED:20250528T011145Z
LAST-MODIFIED:20250528T011145Z
UID:62143-1764075600-1764090000@empowerhai.com
SUMMARY:Advanced Waxing Didactic
DESCRIPTION:
URL:https://empowerhai.com/course/advanced-waxing-didactic-14/
CATEGORIES:Course
END:VEVENT
BEGIN:VEVENT
DTSTART;TZID=UTC:20251125T083000
DTEND;TZID=UTC:20251125T123000
DTSTAMP:20260421T170152
CREATED:20250528T011145Z
LAST-MODIFIED:20250528T011145Z
UID:62142-1764059400-1764073800@empowerhai.com
SUMMARY:Tattoo Removal
DESCRIPTION:
URL:https://empowerhai.com/course/tattoo-removal-15/
CATEGORIES:Course
END:VEVENT
BEGIN:VEVENT
DTSTART;TZID=UTC:20251124T130000
DTEND;TZID=UTC:20251124T170000
DTSTAMP:20260421T170152
CREATED:20250528T011144Z
LAST-MODIFIED:20250528T011144Z
UID:62141-1763989200-1764003600@empowerhai.com
SUMMARY:Dermaplaning
DESCRIPTION:
URL:https://empowerhai.com/course/dermaplaning-14/
CATEGORIES:Course
END:VEVENT
BEGIN:VEVENT
DTSTART;TZID=UTC:20251124T083000
DTEND;TZID=UTC:20251124T123000
DTSTAMP:20260421T170152
CREATED:20250528T011132Z
LAST-MODIFIED:20250528T011132Z
UID:62140-1763973000-1763987400@empowerhai.com
SUMMARY:Microdermabrasion
DESCRIPTION:
URL:https://empowerhai.com/course/microdermabrasion-14/
CATEGORIES:Course
END:VEVENT
BEGIN:VEVENT
DTSTART;TZID=UTC:20251121T083000
DTEND;TZID=UTC:20251121T170000
DTSTAMP:20260421T170152
CREATED:20250528T011132Z
LAST-MODIFIED:20250528T011132Z
UID:62139-1763713800-1763744400@empowerhai.com
SUMMARY:Intense Pulse Light - Hands On
DESCRIPTION:
URL:https://empowerhai.com/course/intense-pulse-light-hands-on-15/
CATEGORIES:Course
END:VEVENT
BEGIN:VEVENT
DTSTART;TZID=UTC:20251120T083000
DTEND;TZID=UTC:20251120T123000
DTSTAMP:20260421T170152
CREATED:20250224T204606Z
LAST-MODIFIED:20250224T204606Z
UID:61781-1763627400-1763641800@empowerhai.com
SUMMARY:Body Contouring Velashape
DESCRIPTION:
URL:https://empowerhai.com/course/body-contouring-velashape-11/
END:VEVENT
BEGIN:VEVENT
DTSTART;TZID=UTC:20251119T083000
DTEND;TZID=UTC:20251119T170000
DTSTAMP:20260421T170152
CREATED:20250224T204535Z
LAST-MODIFIED:20250224T204535Z
UID:61769-1763541000-1763571600@empowerhai.com
SUMMARY:Body Contouring Coolsculpting
DESCRIPTION:
URL:https://empowerhai.com/course/body-contouring-coolsculpting-11/
END:VEVENT
BEGIN:VEVENT
DTSTART;TZID=UTC:20251118T130000
DTEND;TZID=UTC:20251118T170000
DTSTAMP:20260421T170152
CREATED:20250224T204517Z
LAST-MODIFIED:20250224T204517Z
UID:61756-1763470800-1763485200@empowerhai.com
SUMMARY:Fibroblast
DESCRIPTION:
URL:https://empowerhai.com/course/fibroblast-11/
END:VEVENT
BEGIN:VEVENT
DTSTART;TZID=UTC:20251118T083000
DTEND;TZID=UTC:20251118T123000
DTSTAMP:20260421T170152
CREATED:20250224T204442Z
LAST-MODIFIED:20250224T204442Z
UID:61743-1763454600-1763469000@empowerhai.com
SUMMARY:Chemical Peels
DESCRIPTION:
URL:https://empowerhai.com/course/chemical-peels-11/
END:VEVENT
BEGIN:VEVENT
DTSTART;TZID=UTC:20251117T130000
DTEND;TZID=UTC:20251117T170000
DTSTAMP:20260421T170152
CREATED:20250224T204404Z
LAST-MODIFIED:20250224T204404Z
UID:61730-1763384400-1763398800@empowerhai.com
SUMMARY:Hydrafacial
DESCRIPTION:
URL:https://empowerhai.com/course/hydrafacial-11/
END:VEVENT
BEGIN:VEVENT
DTSTART;TZID=UTC:20251117T083000
DTEND;TZID=UTC:20251117T123000
DTSTAMP:20260421T170152
CREATED:20250224T203741Z
LAST-MODIFIED:20250224T203741Z
UID:61716-1763368200-1763382600@empowerhai.com
SUMMARY:Microneedling
DESCRIPTION:
URL:https://empowerhai.com/course/microneedling-11/
END:VEVENT
BEGIN:VEVENT
DTSTART;TZID=UTC:20251108T090000
DTEND;TZID=UTC:20251108T170000
DTSTAMP:20260421T170152
CREATED:20250224T201923Z
LAST-MODIFIED:20250224T201923Z
UID:61668-1762592400-1762621200@empowerhai.com
SUMMARY:Basic Filler
DESCRIPTION:
URL:https://empowerhai.com/course/basic-filler-11/
END:VEVENT
BEGIN:VEVENT
DTSTART;TZID=UTC:20251108T083000
DTEND;TZID=UTC:20251108T170000
DTSTAMP:20260421T170152
CREATED:20250224T203411Z
LAST-MODIFIED:20250224T203411Z
UID:61704-1762590600-1762621200@empowerhai.com
SUMMARY:LHR Level 3: Senior
DESCRIPTION:
URL:https://empowerhai.com/course/lhr-level-3-senior-11/
END:VEVENT
BEGIN:VEVENT
DTSTART;TZID=UTC:20251108T083000
DTEND;TZID=UTC:20251108T170000
DTSTAMP:20260421T170152
CREATED:20250224T202626Z
LAST-MODIFIED:20250224T202626Z
UID:61692-1762590600-1762621200@empowerhai.com
SUMMARY:LHR Level 2: Technician
DESCRIPTION:
URL:https://empowerhai.com/course/lhr-level-2-technician-11/
END:VEVENT
BEGIN:VEVENT
DTSTART;TZID=UTC:20251107T090000
DTEND;TZID=UTC:20251107T170000
DTSTAMP:20260421T170152
CREATED:20250224T201852Z
LAST-MODIFIED:20250224T201852Z
UID:61656-1762506000-1762534800@empowerhai.com
SUMMARY:Basic Neurotoxin
DESCRIPTION:
URL:https://empowerhai.com/course/basic-neurotoxin-11/
END:VEVENT
BEGIN:VEVENT
DTSTART;TZID=UTC:20251103T083000
DTEND;TZID=UTC:20251107T170000
DTSTAMP:20260421T170152
CREATED:20250224T202138Z
LAST-MODIFIED:20250224T202138Z
UID:61680-1762158600-1762534800@empowerhai.com
SUMMARY:LHR Level 1: Apprentice Didactic
DESCRIPTION:
URL:https://empowerhai.com/course/lhr-level-1-apprentice-didactic-11/
END:VEVENT
END:VCALENDAR