BEGIN:VCALENDAR
VERSION:2.0
PRODID:-//Empower Health and Aesthetic Institute - ECPv6.15.20//NONSGML v1.0//EN
CALSCALE:GREGORIAN
METHOD:PUBLISH
X-ORIGINAL-URL:https://empowerhai.com
X-WR-CALDESC:Events for Empower Health and Aesthetic Institute
REFRESH-INTERVAL;VALUE=DURATION:PT1H
X-Robots-Tag:noindex
X-PUBLISHED-TTL:PT1H
BEGIN:VTIMEZONE
TZID:UTC
BEGIN:STANDARD
TZOFFSETFROM:+0000
TZOFFSETTO:+0000
TZNAME:UTC
DTSTART:20230101T000000
END:STANDARD
END:VTIMEZONE
BEGIN:VEVENT
DTSTART;TZID=UTC:20250111T083000
DTEND;TZID=UTC:20250111T170000
DTSTAMP:20260422T173455
CREATED:20250224T202627Z
LAST-MODIFIED:20250224T202627Z
UID:61694-1736584200-1736614800@empowerhai.com
SUMMARY:LHR Level 3: Senior
DESCRIPTION:
URL:https://empowerhai.com/course/lhr-level-3-senior/
END:VEVENT
BEGIN:VEVENT
DTSTART;TZID=UTC:20250111T083000
DTEND;TZID=UTC:20250111T170000
DTSTAMP:20260422T173455
CREATED:20250224T202338Z
LAST-MODIFIED:20250224T202338Z
UID:61682-1736584200-1736614800@empowerhai.com
SUMMARY:LHR Level 2: Technician
DESCRIPTION:
URL:https://empowerhai.com/course/lhr-level-2-technician/
END:VEVENT
BEGIN:VEVENT
DTSTART;TZID=UTC:20250110T090000
DTEND;TZID=UTC:20250110T170000
DTSTAMP:20260422T173455
CREATED:20250224T201832Z
LAST-MODIFIED:20250224T201832Z
UID:61646-1736499600-1736528400@empowerhai.com
SUMMARY:Basic Neurotoxin
DESCRIPTION:
URL:https://empowerhai.com/course/basic-neurotoxin-2/
END:VEVENT
BEGIN:VEVENT
DTSTART;TZID=UTC:20250106T083000
DTEND;TZID=UTC:20250110T170000
DTSTAMP:20260422T173455
CREATED:20250224T201923Z
LAST-MODIFIED:20250224T201923Z
UID:61670-1736152200-1736528400@empowerhai.com
SUMMARY:LHR Level 1: Apprentice Didactic
DESCRIPTION:
URL:https://empowerhai.com/course/lhr-level-1-apprentice-didactic/
END:VEVENT
BEGIN:VEVENT
DTSTART;TZID=UTC:20241206T090000
DTEND;TZID=UTC:20241206T170000
DTSTAMP:20260422T173455
CREATED:20250224T201923Z
LAST-MODIFIED:20250224T201923Z
UID:61669-1733475600-1733504400@empowerhai.com
SUMMARY:Basic Filler
DESCRIPTION:
URL:https://empowerhai.com/course/basic-filler-12/
END:VEVENT
BEGIN:VEVENT
DTSTART;TZID=UTC:20241205T090000
DTEND;TZID=UTC:20241205T170000
DTSTAMP:20260422T173455
CREATED:20250224T201852Z
LAST-MODIFIED:20250224T201852Z
UID:61657-1733389200-1733418000@empowerhai.com
SUMMARY:Basic Neurotoxin
DESCRIPTION:
URL:https://empowerhai.com/course/basic-neurotoxin-12/
END:VEVENT
BEGIN:VEVENT
DTSTART;TZID=UTC:20240607T083000
DTEND;TZID=UTC:20240607T170000
DTSTAMP:20260422T173455
CREATED:20250224T203403Z
LAST-MODIFIED:20250224T203403Z
UID:61699-1717749000-1717779600@empowerhai.com
SUMMARY:LHR Level 3: Senior
DESCRIPTION:
URL:https://empowerhai.com/course/lhr-level-3-senior-6/
END:VEVENT
BEGIN:VEVENT
DTSTART;TZID=UTC:20240607T083000
DTEND;TZID=UTC:20240607T170000
DTSTAMP:20260422T173455
CREATED:20250224T202538Z
LAST-MODIFIED:20250224T202538Z
UID:61687-1717749000-1717779600@empowerhai.com
SUMMARY:LHR Level 2: Technician
DESCRIPTION:
URL:https://empowerhai.com/course/lhr-level-2-technician-6/
END:VEVENT
END:VCALENDAR