BEGIN:VCALENDAR
VERSION:2.0
PRODID:-//Empower Health and Aesthetic Institute - ECPv6.15.20//NONSGML v1.0//EN
CALSCALE:GREGORIAN
METHOD:PUBLISH
X-ORIGINAL-URL:https://empowerhai.com
X-WR-CALDESC:Events for Empower Health and Aesthetic Institute
REFRESH-INTERVAL;VALUE=DURATION:PT1H
X-Robots-Tag:noindex
X-PUBLISHED-TTL:PT1H
BEGIN:VTIMEZONE
TZID:UTC
BEGIN:STANDARD
TZOFFSETFROM:+0000
TZOFFSETTO:+0000
TZNAME:UTC
DTSTART:20240101T000000
END:STANDARD
END:VTIMEZONE
BEGIN:VEVENT
DTSTART;TZID=UTC:20250509T090000
DTEND;TZID=UTC:20250509T170000
DTSTAMP:20260422T110122
CREATED:20250224T201834Z
LAST-MODIFIED:20250224T201834Z
UID:61650-1746781200-1746810000@empowerhai.com
SUMMARY:Basic Neurotoxin
DESCRIPTION:
URL:https://empowerhai.com/course/basic-neurotoxin-5/
END:VEVENT
BEGIN:VEVENT
DTSTART;TZID=UTC:20250505T083000
DTEND;TZID=UTC:20250509T170000
DTSTAMP:20260422T110122
CREATED:20250224T201937Z
LAST-MODIFIED:20250224T201937Z
UID:61674-1746433800-1746810000@empowerhai.com
SUMMARY:LHR Level 1: Apprentice Didactic
DESCRIPTION:
URL:https://empowerhai.com/course/lhr-level-1-apprentice-didactic-5/
END:VEVENT
BEGIN:VEVENT
DTSTART;TZID=UTC:20250424T130000
DTEND;TZID=UTC:20250424T170000
DTSTAMP:20260422T110122
CREATED:20250224T204615Z
LAST-MODIFIED:20250224T204615Z
UID:61786-1745499600-1745514000@empowerhai.com
SUMMARY:Intense Pulse Light & Demo
DESCRIPTION:
URL:https://empowerhai.com/course/intense-pulse-light-demo-4/
END:VEVENT
BEGIN:VEVENT
DTSTART;TZID=UTC:20250424T083000
DTEND;TZID=UTC:20250424T123000
DTSTAMP:20260422T110122
CREATED:20250224T204541Z
LAST-MODIFIED:20250224T204541Z
UID:61774-1745483400-1745497800@empowerhai.com
SUMMARY:Body Contouring Velashape
DESCRIPTION:
URL:https://empowerhai.com/course/body-contouring-velashape-4/
END:VEVENT
BEGIN:VEVENT
DTSTART;TZID=UTC:20250423T083000
DTEND;TZID=UTC:20250423T170000
DTSTAMP:20260422T110122
CREATED:20250224T204522Z
LAST-MODIFIED:20250224T204522Z
UID:61761-1745397000-1745427600@empowerhai.com
SUMMARY:Body Contouring Coolsculpting
DESCRIPTION:
URL:https://empowerhai.com/course/body-contouring-coolsculpting-4/
END:VEVENT
BEGIN:VEVENT
DTSTART;TZID=UTC:20250422T130000
DTEND;TZID=UTC:20250422T170000
DTSTAMP:20260422T110122
CREATED:20250224T204500Z
LAST-MODIFIED:20250224T204500Z
UID:61748-1745326800-1745341200@empowerhai.com
SUMMARY:Fibroblast
DESCRIPTION:
URL:https://empowerhai.com/course/fibroblast-4/
END:VEVENT
BEGIN:VEVENT
DTSTART;TZID=UTC:20250422T083000
DTEND;TZID=UTC:20250422T123000
DTSTAMP:20260422T110122
CREATED:20250224T204423Z
LAST-MODIFIED:20250224T204423Z
UID:61735-1745310600-1745325000@empowerhai.com
SUMMARY:Chemical Peels
DESCRIPTION:
URL:https://empowerhai.com/course/chemical-peels-4/
END:VEVENT
BEGIN:VEVENT
DTSTART;TZID=UTC:20250421T130000
DTEND;TZID=UTC:20250421T170000
DTSTAMP:20260422T110122
CREATED:20250224T203801Z
LAST-MODIFIED:20250224T203801Z
UID:61721-1745240400-1745254800@empowerhai.com
SUMMARY:Hydrafacial
DESCRIPTION:
URL:https://empowerhai.com/course/hydrafacial-4/
END:VEVENT
BEGIN:VEVENT
DTSTART;TZID=UTC:20250421T083000
DTEND;TZID=UTC:20250421T123000
DTSTAMP:20260422T110122
CREATED:20250224T203426Z
LAST-MODIFIED:20250224T203426Z
UID:61709-1745224200-1745238600@empowerhai.com
SUMMARY:Microneedling
DESCRIPTION:
URL:https://empowerhai.com/course/microneedling-4/
END:VEVENT
BEGIN:VEVENT
DTSTART;TZID=UTC:20250412T090000
DTEND;TZID=UTC:20250412T170000
DTSTAMP:20260422T110122
CREATED:20250224T201907Z
LAST-MODIFIED:20250224T201907Z
UID:61661-1744448400-1744477200@empowerhai.com
SUMMARY:Basic Filler
DESCRIPTION:
URL:https://empowerhai.com/course/basic-filler-4/
END:VEVENT
BEGIN:VEVENT
DTSTART;TZID=UTC:20250412T083000
DTEND;TZID=UTC:20250412T170000
DTSTAMP:20260422T110122
CREATED:20250224T203402Z
LAST-MODIFIED:20250224T203402Z
UID:61697-1744446600-1744477200@empowerhai.com
SUMMARY:LHR Level 3: Senior
DESCRIPTION:
URL:https://empowerhai.com/course/lhr-level-3-senior-4/
END:VEVENT
BEGIN:VEVENT
DTSTART;TZID=UTC:20250412T083000
DTEND;TZID=UTC:20250412T170000
DTSTAMP:20260422T110122
CREATED:20250224T202339Z
LAST-MODIFIED:20250224T202339Z
UID:61685-1744446600-1744477200@empowerhai.com
SUMMARY:LHR Level 2: Technician
DESCRIPTION:
URL:https://empowerhai.com/course/lhr-level-2-technician-4/
END:VEVENT
BEGIN:VEVENT
DTSTART;TZID=UTC:20250411T090000
DTEND;TZID=UTC:20250411T170000
DTSTAMP:20260422T110122
CREATED:20250224T201833Z
LAST-MODIFIED:20250224T201833Z
UID:61649-1744362000-1744390800@empowerhai.com
SUMMARY:Basic Neurotoxin
DESCRIPTION:
URL:https://empowerhai.com/course/basic-neurotoxin-4/
END:VEVENT
BEGIN:VEVENT
DTSTART;TZID=UTC:20250407T083000
DTEND;TZID=UTC:20250411T170000
DTSTAMP:20260422T110122
CREATED:20250224T201937Z
LAST-MODIFIED:20250224T201937Z
UID:61673-1744014600-1744390800@empowerhai.com
SUMMARY:LHR Level 1: Apprentice Didactic
DESCRIPTION:
URL:https://empowerhai.com/course/lhr-level-1-apprentice-didactic-4/
END:VEVENT
BEGIN:VEVENT
DTSTART;TZID=UTC:20250322T100000
DTEND;TZID=UTC:20250322T170000
DTSTAMP:20260422T110122
CREATED:20250226T155703Z
LAST-MODIFIED:20250226T155903Z
UID:61846-1742637600-1742662800@empowerhai.com
SUMMARY:OPEN HOUSE
DESCRIPTION:RSVP Today »
URL:https://empowerhai.com/course/open-house/
LOCATION:Empower Health & Aesthetic Institute\, 5445 La Sierra Dr.\, Suite 400\, Dallas\, TX\, 75231\, United States
ATTACH;FMTTYPE=image/jpeg:https://empowerhai.com/wp-content/uploads/2025/02/rsvp-empower-hai.jpg
END:VEVENT
BEGIN:VEVENT
DTSTART;TZID=UTC:20250320T130000
DTEND;TZID=UTC:20250320T170000
DTSTAMP:20260422T110122
CREATED:20250224T204608Z
LAST-MODIFIED:20250224T204608Z
UID:61785-1742475600-1742490000@empowerhai.com
SUMMARY:Intense Pulse Light & Demo
DESCRIPTION:
URL:https://empowerhai.com/course/intense-pulse-light-demo-3/
END:VEVENT
BEGIN:VEVENT
DTSTART;TZID=UTC:20250320T083000
DTEND;TZID=UTC:20250320T123000
DTSTAMP:20260422T110122
CREATED:20250224T204541Z
LAST-MODIFIED:20250224T204541Z
UID:61773-1742459400-1742473800@empowerhai.com
SUMMARY:Body Contouring Velashape
DESCRIPTION:
URL:https://empowerhai.com/course/body-contouring-velashape-3/
END:VEVENT
BEGIN:VEVENT
DTSTART;TZID=UTC:20250319T083000
DTEND;TZID=UTC:20250319T170000
DTSTAMP:20260422T110122
CREATED:20250224T204522Z
LAST-MODIFIED:20250224T204522Z
UID:61760-1742373000-1742403600@empowerhai.com
SUMMARY:Body Contouring Coolsculpting
DESCRIPTION:
URL:https://empowerhai.com/course/body-contouring-coolsculpting-3/
END:VEVENT
BEGIN:VEVENT
DTSTART;TZID=UTC:20250318T130000
DTEND;TZID=UTC:20250318T170000
DTSTAMP:20260422T110122
CREATED:20250224T204500Z
LAST-MODIFIED:20250224T204500Z
UID:61747-1742302800-1742317200@empowerhai.com
SUMMARY:Fibroblast
DESCRIPTION:
URL:https://empowerhai.com/course/fibroblast-3/
END:VEVENT
BEGIN:VEVENT
DTSTART;TZID=UTC:20250318T083000
DTEND;TZID=UTC:20250318T123000
DTSTAMP:20260422T110122
CREATED:20250224T204423Z
LAST-MODIFIED:20250224T204423Z
UID:61734-1742286600-1742301000@empowerhai.com
SUMMARY:Chemical Peels
DESCRIPTION:
URL:https://empowerhai.com/course/chemical-peels-3/
END:VEVENT
BEGIN:VEVENT
DTSTART;TZID=UTC:20250317T130000
DTEND;TZID=UTC:20250317T170000
DTSTAMP:20260422T110122
CREATED:20250224T203743Z
LAST-MODIFIED:20250224T203743Z
UID:61720-1742216400-1742230800@empowerhai.com
SUMMARY:Hydrafacial
DESCRIPTION:
URL:https://empowerhai.com/course/hydrafacial-3/
END:VEVENT
BEGIN:VEVENT
DTSTART;TZID=UTC:20250317T083000
DTEND;TZID=UTC:20250317T123000
DTSTAMP:20260422T110122
CREATED:20250224T203426Z
LAST-MODIFIED:20250224T203426Z
UID:61708-1742200200-1742214600@empowerhai.com
SUMMARY:Microneedling
DESCRIPTION:
URL:https://empowerhai.com/course/microneedling-3/
END:VEVENT
BEGIN:VEVENT
DTSTART;TZID=UTC:20250308T090000
DTEND;TZID=UTC:20250308T170000
DTSTAMP:20260422T110122
CREATED:20250224T201853Z
LAST-MODIFIED:20250224T201853Z
UID:61660-1741424400-1741453200@empowerhai.com
SUMMARY:Basic Filler
DESCRIPTION:
URL:https://empowerhai.com/course/basic-filler-3/
END:VEVENT
BEGIN:VEVENT
DTSTART;TZID=UTC:20250308T083000
DTEND;TZID=UTC:20250308T170000
DTSTAMP:20260422T110122
CREATED:20250224T203401Z
LAST-MODIFIED:20250224T203401Z
UID:61696-1741422600-1741453200@empowerhai.com
SUMMARY:LHR Level 3: Senior
DESCRIPTION:
URL:https://empowerhai.com/course/lhr-level-3-senior-3/
END:VEVENT
BEGIN:VEVENT
DTSTART;TZID=UTC:20250308T083000
DTEND;TZID=UTC:20250308T170000
DTSTAMP:20260422T110122
CREATED:20250224T202338Z
LAST-MODIFIED:20250224T202338Z
UID:61684-1741422600-1741453200@empowerhai.com
SUMMARY:LHR Level 2: Technician
DESCRIPTION:
URL:https://empowerhai.com/course/lhr-level-2-technician-3/
END:VEVENT
BEGIN:VEVENT
DTSTART;TZID=UTC:20250307T090000
DTEND;TZID=UTC:20250307T170000
DTSTAMP:20260422T110123
CREATED:20250224T200654Z
LAST-MODIFIED:20250224T201833Z
UID:61640-1741338000-1741366800@empowerhai.com
SUMMARY:Basic Neurotoxin
DESCRIPTION:
URL:https://empowerhai.com/course/basic-neurotoxin/
END:VEVENT
BEGIN:VEVENT
DTSTART;TZID=UTC:20250303T083000
DTEND;TZID=UTC:20250307T170000
DTSTAMP:20260422T110123
CREATED:20250224T201937Z
LAST-MODIFIED:20250224T201937Z
UID:61672-1740990600-1741366800@empowerhai.com
SUMMARY:LHR Level 1: Apprentice Didactic
DESCRIPTION:
URL:https://empowerhai.com/course/lhr-level-1-apprentice-didactic-3/
END:VEVENT
BEGIN:VEVENT
DTSTART;TZID=UTC:20250220T130000
DTEND;TZID=UTC:20250220T170000
DTSTAMP:20260422T110123
CREATED:20250224T204607Z
LAST-MODIFIED:20250224T204607Z
UID:61784-1740056400-1740070800@empowerhai.com
SUMMARY:Intense Pulse Light & Demo
DESCRIPTION:
URL:https://empowerhai.com/course/intense-pulse-light-demo-2/
END:VEVENT
BEGIN:VEVENT
DTSTART;TZID=UTC:20250220T083000
DTEND;TZID=UTC:20250220T123000
DTSTAMP:20260422T110123
CREATED:20250224T204540Z
LAST-MODIFIED:20250224T204540Z
UID:61772-1740040200-1740054600@empowerhai.com
SUMMARY:Body Contouring Velashape
DESCRIPTION:
URL:https://empowerhai.com/course/body-contouring-velashape-2/
END:VEVENT
BEGIN:VEVENT
DTSTART;TZID=UTC:20250219T083000
DTEND;TZID=UTC:20250219T170000
DTSTAMP:20260422T110123
CREATED:20250224T204518Z
LAST-MODIFIED:20250224T204518Z
UID:61759-1739953800-1739984400@empowerhai.com
SUMMARY:Body Contouring Coolsculpting
DESCRIPTION:
URL:https://empowerhai.com/course/body-contouring-coolsculpting-2/
END:VEVENT
END:VCALENDAR