BEGIN:VCALENDAR
VERSION:2.0
PRODID:-//Empower Health and Aesthetic Institute - ECPv6.15.20//NONSGML v1.0//EN
CALSCALE:GREGORIAN
METHOD:PUBLISH
X-WR-CALNAME:Empower Health and Aesthetic Institute
X-ORIGINAL-URL:https://empowerhai.com
X-WR-CALDESC:Events for Empower Health and Aesthetic Institute
REFRESH-INTERVAL;VALUE=DURATION:PT1H
X-Robots-Tag:noindex
X-PUBLISHED-TTL:PT1H
BEGIN:VTIMEZONE
TZID:UTC
BEGIN:STANDARD
TZOFFSETFROM:+0000
TZOFFSETTO:+0000
TZNAME:UTC
DTSTART:20250101T000000
END:STANDARD
END:VTIMEZONE
BEGIN:VEVENT
DTSTART;TZID=UTC:20261221T083000
DTEND;TZID=UTC:20261221T123000
DTSTAMP:20260420T020724
CREATED:20251210T220013Z
LAST-MODIFIED:20251210T220013Z
UID:62607-1797841800-1797856200@empowerhai.com
SUMMARY:Microdermabrasion
DESCRIPTION:The Dermaplane & Microdermabrasion Seminar provides students didactic and hands-on training with a Seminar curriculum is designed and implemented to provide students with appropriate training on treatment guidelines and technique.
URL:https://empowerhai.com/course/microdermabrasion-27/
ORGANIZER;CN="Tim Seekely":MAILTO:info@empowerhai.com
END:VEVENT
BEGIN:VEVENT
DTSTART;TZID=UTC:20261221T130000
DTEND;TZID=UTC:20261221T170000
DTSTAMP:20260420T020724
CREATED:20251210T220044Z
LAST-MODIFIED:20251210T220044Z
UID:62619-1797858000-1797872400@empowerhai.com
SUMMARY:Dermaplaning
DESCRIPTION:The Dermaplane & Microdermabrasion Seminar provides students didactic and hands-on training with a Seminar curriculum is designed and implemented to provide students with appropriate training on treatment guidelines and technique.
URL:https://empowerhai.com/course/dermaplaning-27/
ORGANIZER;CN="Tim Seekely":MAILTO:info@empowerhai.com
END:VEVENT
BEGIN:VEVENT
DTSTART;TZID=UTC:20261222T083000
DTEND;TZID=UTC:20261222T123000
DTSTAMP:20260420T020724
CREATED:20251210T220127Z
LAST-MODIFIED:20251210T220127Z
UID:62631-1797928200-1797942600@empowerhai.com
SUMMARY:Tattoo Removal
DESCRIPTION:Tattoo Removal teaches providers how to assess ink composition\, select proper laser settings\, and perform safe\, effective treatments that clear unwanted pigment with minimal skin damage.
URL:https://empowerhai.com/course/tattoo-removal-28/
ORGANIZER;CN="Tim Seekely":MAILTO:info@empowerhai.com
END:VEVENT
END:VCALENDAR