BEGIN:VCALENDAR
VERSION:2.0
PRODID:-//Empower Health and Aesthetic Institute - ECPv6.15.20//NONSGML v1.0//EN
CALSCALE:GREGORIAN
METHOD:PUBLISH
X-ORIGINAL-URL:https://empowerhai.com
X-WR-CALDESC:Events for Empower Health and Aesthetic Institute
REFRESH-INTERVAL;VALUE=DURATION:PT1H
X-Robots-Tag:noindex
X-PUBLISHED-TTL:PT1H
BEGIN:VTIMEZONE
TZID:UTC
BEGIN:STANDARD
TZOFFSETFROM:+0000
TZOFFSETTO:+0000
TZNAME:UTC
DTSTART:20240101T000000
END:STANDARD
END:VTIMEZONE
BEGIN:VEVENT
DTSTART;TZID=UTC:20251126T083000
DTEND;TZID=UTC:20251126T123000
DTSTAMP:20260420T023402
CREATED:20250528T011145Z
LAST-MODIFIED:20250528T011145Z
UID:62144-1764145800-1764160200@empowerhai.com
SUMMARY:Advanced Waxing Hands-On
DESCRIPTION:
URL:https://empowerhai.com/course/advanced-waxing-hands-on-14/
CATEGORIES:Course
END:VEVENT
BEGIN:VEVENT
DTSTART;TZID=UTC:20251201T083000
DTEND;TZID=UTC:20251205T170000
DTSTAMP:20260420T023402
CREATED:20250224T202338Z
LAST-MODIFIED:20250224T202338Z
UID:61681-1764577800-1764954000@empowerhai.com
SUMMARY:LHR Level 1: Apprentice Didactic
DESCRIPTION:
URL:https://empowerhai.com/course/lhr-level-1-apprentice-didactic-12/
END:VEVENT
BEGIN:VEVENT
DTSTART;TZID=UTC:20251206T083000
DTEND;TZID=UTC:20251206T170000
DTSTAMP:20260420T023402
CREATED:20250224T202627Z
LAST-MODIFIED:20250224T202627Z
UID:61693-1765009800-1765040400@empowerhai.com
SUMMARY:LHR Level 2: Technician
DESCRIPTION:
URL:https://empowerhai.com/course/lhr-level-2-technician-12/
END:VEVENT
BEGIN:VEVENT
DTSTART;TZID=UTC:20251206T083000
DTEND;TZID=UTC:20251206T170000
DTSTAMP:20260420T023402
CREATED:20250224T203411Z
LAST-MODIFIED:20250224T203411Z
UID:61705-1765009800-1765040400@empowerhai.com
SUMMARY:LHR Level 3: Senior
DESCRIPTION:
URL:https://empowerhai.com/course/lhr-level-3-senior-12/
END:VEVENT
BEGIN:VEVENT
DTSTART;TZID=UTC:20251208T083000
DTEND;TZID=UTC:20251208T123000
DTSTAMP:20260420T023402
CREATED:20250224T203742Z
LAST-MODIFIED:20250224T203742Z
UID:61717-1765182600-1765197000@empowerhai.com
SUMMARY:Microneedling
DESCRIPTION:
URL:https://empowerhai.com/course/microneedling-12/
END:VEVENT
BEGIN:VEVENT
DTSTART;TZID=UTC:20251208T130000
DTEND;TZID=UTC:20251208T170000
DTSTAMP:20260420T023402
CREATED:20250224T204405Z
LAST-MODIFIED:20250224T204405Z
UID:61731-1765198800-1765213200@empowerhai.com
SUMMARY:Hydrafacial
DESCRIPTION:
URL:https://empowerhai.com/course/hydrafacial-12/
END:VEVENT
BEGIN:VEVENT
DTSTART;TZID=UTC:20251209T083000
DTEND;TZID=UTC:20251209T123000
DTSTAMP:20260420T023402
CREATED:20250224T204459Z
LAST-MODIFIED:20250224T204459Z
UID:61744-1765269000-1765283400@empowerhai.com
SUMMARY:Chemical Peels
DESCRIPTION:
URL:https://empowerhai.com/course/chemical-peels-12/
END:VEVENT
BEGIN:VEVENT
DTSTART;TZID=UTC:20251209T130000
DTEND;TZID=UTC:20251209T170000
DTSTAMP:20260420T023402
CREATED:20250224T204517Z
LAST-MODIFIED:20250224T204517Z
UID:61757-1765285200-1765299600@empowerhai.com
SUMMARY:Fibroblast
DESCRIPTION:
URL:https://empowerhai.com/course/fibroblast-12/
END:VEVENT
BEGIN:VEVENT
DTSTART;TZID=UTC:20251210T083000
DTEND;TZID=UTC:20251210T170000
DTSTAMP:20260420T023402
CREATED:20250224T204535Z
LAST-MODIFIED:20250224T204535Z
UID:61770-1765355400-1765386000@empowerhai.com
SUMMARY:Body Contouring Coolsculpting
DESCRIPTION:
URL:https://empowerhai.com/course/body-contouring-coolsculpting-12/
END:VEVENT
BEGIN:VEVENT
DTSTART;TZID=UTC:20251211T083000
DTEND;TZID=UTC:20251211T123000
DTSTAMP:20260420T023402
CREATED:20250224T204607Z
LAST-MODIFIED:20250523T190044Z
UID:61782-1765441800-1765456200@empowerhai.com
SUMMARY:Body Contouring Velashape
DESCRIPTION:
URL:https://empowerhai.com/course/body-contouring-velashape-12/
LOCATION:Empower Health & Aesthetic Institute\, 5445 La Sierra Dr.\, Suite 400\, Dallas\, TX\, 75231\, United States
END:VEVENT
BEGIN:VEVENT
DTSTART;TZID=UTC:20251212T083000
DTEND;TZID=UTC:20251212T170000
DTSTAMP:20260420T023402
CREATED:20250528T011146Z
LAST-MODIFIED:20250528T011146Z
UID:62145-1765528200-1765558800@empowerhai.com
SUMMARY:Intense Pulse Light - Hands On
DESCRIPTION:
URL:https://empowerhai.com/course/intense-pulse-light-hands-on-16/
CATEGORIES:Course
END:VEVENT
BEGIN:VEVENT
DTSTART;TZID=UTC:20251215T083000
DTEND;TZID=UTC:20251215T123000
DTSTAMP:20260420T023402
CREATED:20250528T011345Z
LAST-MODIFIED:20250528T011345Z
UID:62146-1765787400-1765801800@empowerhai.com
SUMMARY:Microdermabrasion
DESCRIPTION:
URL:https://empowerhai.com/course/microdermabrasion-15/
CATEGORIES:Course
END:VEVENT
BEGIN:VEVENT
DTSTART;TZID=UTC:20251215T130000
DTEND;TZID=UTC:20251215T170000
DTSTAMP:20260420T023402
CREATED:20250528T011346Z
LAST-MODIFIED:20250528T011346Z
UID:62147-1765803600-1765818000@empowerhai.com
SUMMARY:Dermaplaning
DESCRIPTION:
URL:https://empowerhai.com/course/dermaplaning-15/
CATEGORIES:Course
END:VEVENT
BEGIN:VEVENT
DTSTART;TZID=UTC:20251216T083000
DTEND;TZID=UTC:20251216T123000
DTSTAMP:20260420T023402
CREATED:20250528T011346Z
LAST-MODIFIED:20250528T011346Z
UID:62148-1765873800-1765888200@empowerhai.com
SUMMARY:Tattoo Removal
DESCRIPTION:
URL:https://empowerhai.com/course/tattoo-removal-16/
CATEGORIES:Course
END:VEVENT
BEGIN:VEVENT
DTSTART;TZID=UTC:20260105T083000
DTEND;TZID=UTC:20260109T170000
DTSTAMP:20260420T023402
CREATED:20251210T221410Z
LAST-MODIFIED:20251210T221410Z
UID:62668-1767601800-1767978000@empowerhai.com
SUMMARY:LHR Level 1: Apprentice Didactic
DESCRIPTION:This course provides extensive didactic in Laser\, Intense Pulsed Light & Radio Frequency that are most commonly used for hair removal procedures.
URL:https://empowerhai.com/course/lhr-level-1-apprentice-didactic-13/
ORGANIZER;CN="Tim Seekely":MAILTO:info@empowerhai.com
END:VEVENT
BEGIN:VEVENT
DTSTART;TZID=UTC:20260110T083000
DTEND;TZID=UTC:20260110T170000
DTSTAMP:20260420T023402
CREATED:20251210T221907Z
LAST-MODIFIED:20251210T221907Z
UID:62680-1768033800-1768064400@empowerhai.com
SUMMARY:LHR Level 2: Technician
DESCRIPTION:This course provides the student with the Laser Hair Removal hands-on treatments necessary to obtain the next level in Laser Certification\, which is Laser Technician.
URL:https://empowerhai.com/course/lhr-level-2-technician-13/
ORGANIZER;CN="Tim Seekely":MAILTO:info@empowerhai.com
END:VEVENT
BEGIN:VEVENT
DTSTART;TZID=UTC:20260110T083000
DTEND;TZID=UTC:20260110T170000
DTSTAMP:20260420T023402
CREATED:20251210T223513Z
LAST-MODIFIED:20251210T223513Z
UID:62692-1768033800-1768064400@empowerhai.com
SUMMARY:LHR Level 3: Senior
DESCRIPTION:The course provides students with the necessary documentation of 100 observed laser hair treatments observed by a Senior or Professional Level Technician as required by the State of Texas. These Treatments will be recorded for the student and provided to the student to have the necessary documentation as required by the state to fulfill the application process to TDLR for the Senior Certification.
URL:https://empowerhai.com/course/lhr-level-3-senior-13/
ORGANIZER;CN="Tim Seekely":MAILTO:info@empowerhai.com
END:VEVENT
BEGIN:VEVENT
DTSTART;TZID=UTC:20260116T090000
DTEND;TZID=UTC:20260116T170000
DTSTAMP:20260420T023402
CREATED:20251210T220404Z
LAST-MODIFIED:20251210T220404Z
UID:62644-1768554000-1768582800@empowerhai.com
SUMMARY:Basic Neurotoxin
DESCRIPTION:Basic Neurotoxin Injection gives providers foundational skills in facial anatomy\, dosing\, and safe injection technique to deliver predictable\, natural-looking results.
URL:https://empowerhai.com/course/basic-neurotoxin-13/
ORGANIZER;CN="Tim Seekely":MAILTO:info@empowerhai.com
END:VEVENT
BEGIN:VEVENT
DTSTART;TZID=UTC:20260117T090000
DTEND;TZID=UTC:20260117T170000
DTSTAMP:20260420T023402
CREATED:20251210T220809Z
LAST-MODIFIED:20251210T220809Z
UID:62656-1768640400-1768669200@empowerhai.com
SUMMARY:Basic Filler
DESCRIPTION:The Medical Professional & Delegate Basic Filler Course provides medical professionals & delegates a didactic and hands-on training with various forms of aesthetic hyaluronic acid injectable filler procedures.
URL:https://empowerhai.com/course/basic-filler-13/
ORGANIZER;CN="Tim Seekely":MAILTO:info@empowerhai.com
END:VEVENT
BEGIN:VEVENT
DTSTART;TZID=UTC:20260119T083000
DTEND;TZID=UTC:20260119T123000
DTSTAMP:20260420T023402
CREATED:20251210T214801Z
LAST-MODIFIED:20251210T214801Z
UID:62495-1768811400-1768825800@empowerhai.com
SUMMARY:Microneedling
DESCRIPTION:The Fibroblast Seminar provides students didactic and hands-on training with a curriculum designed and implemented to provide students with appropriate training on Fibroblast treatment guidelines.
URL:https://empowerhai.com/course/microneedling-13/
ORGANIZER;CN="Tim Seekely":MAILTO:info@empowerhai.com
END:VEVENT
BEGIN:VEVENT
DTSTART;TZID=UTC:20260119T130000
DTEND;TZID=UTC:20260119T170000
DTSTAMP:20260420T023402
CREATED:20251210T214813Z
LAST-MODIFIED:20251210T214813Z
UID:62507-1768827600-1768842000@empowerhai.com
SUMMARY:Hydrafacial
DESCRIPTION:The Hydrafacial Course provides students didactic and hands-on training with a Course curriculum is designed and implemented to provide students with appropriate training on treatment guidelines and technique.
URL:https://empowerhai.com/course/hydrafacial-13/
ORGANIZER;CN="Tim Seekely":MAILTO:info@empowerhai.com
END:VEVENT
BEGIN:VEVENT
DTSTART;TZID=UTC:20260120T083000
DTEND;TZID=UTC:20260120T123000
DTSTAMP:20260420T023402
CREATED:20251210T214836Z
LAST-MODIFIED:20251210T214836Z
UID:62519-1768897800-1768912200@empowerhai.com
SUMMARY:Chemical Peels
DESCRIPTION:The Medical Grade Chemical Peels Course provides students didactic and hands-on training with a Course curriculum is designed and implemented to provide students with appropriate training on treatment guidelines and technique.
URL:https://empowerhai.com/course/chemical-peels-13/
ORGANIZER;CN="Tim Seekely":MAILTO:info@empowerhai.com
END:VEVENT
BEGIN:VEVENT
DTSTART;TZID=UTC:20260120T130000
DTEND;TZID=UTC:20260120T170000
DTSTAMP:20260420T023402
CREATED:20251210T214920Z
LAST-MODIFIED:20251210T214920Z
UID:62536-1768914000-1768928400@empowerhai.com
SUMMARY:Fibroblast
DESCRIPTION:The Fibroblast Seminar provides students didactic and hands-on training with a curriculum designed and implemented to provide students with appropriate training on Fibroblast treatment guidelines.
URL:https://empowerhai.com/course/fibroblast-13/
ORGANIZER;CN="Tim Seekely":MAILTO:info@empowerhai.com
END:VEVENT
BEGIN:VEVENT
DTSTART;TZID=UTC:20260121T083000
DTEND;TZID=UTC:20260121T170000
DTSTAMP:20260420T023402
CREATED:20251210T214951Z
LAST-MODIFIED:20251210T214951Z
UID:62548-1768984200-1769014800@empowerhai.com
SUMMARY:Body Contouring Coolsculpting
DESCRIPTION:The Body Contouring Course provides students didactic and hands-on training with a Course curriculum designed and implemented to provide students with appropriate training on treatment guidelines.
URL:https://empowerhai.com/course/body-contouring-coolsculpting-13/
ORGANIZER;CN="Tim Seekely":MAILTO:info@empowerhai.com
END:VEVENT
BEGIN:VEVENT
DTSTART;TZID=UTC:20260122T083000
DTEND;TZID=UTC:20260122T123000
DTSTAMP:20260420T023402
CREATED:20251210T215035Z
LAST-MODIFIED:20251210T215035Z
UID:62560-1769070600-1769085000@empowerhai.com
SUMMARY:Body Contouring Velashape
DESCRIPTION:The Body Contouring Course provides students didactic and hands-on training with a Course curriculum designed and implemented to provide students with appropriate training on treatment guidelines.
URL:https://empowerhai.com/course/body-contouring-velashape-13/
ORGANIZER;CN="Tim Seekely":MAILTO:info@empowerhai.com
END:VEVENT
BEGIN:VEVENT
DTSTART;TZID=UTC:20260122T130000
DTEND;TZID=UTC:20260122T170000
DTSTAMP:20260420T023402
CREATED:20251210T215105Z
LAST-MODIFIED:20251210T215105Z
UID:62572-1769086800-1769101200@empowerhai.com
SUMMARY:Intense Pulse Light & Demo
DESCRIPTION:IPL trains providers to evaluate skin conditions\, choose correct light-based parameters\, and perform safe pigment and vascular treatments that improve overall skin clarity.
URL:https://empowerhai.com/course/intense-pulse-light-demo-9/
ORGANIZER;CN="Tim Seekely":MAILTO:info@empowerhai.com
END:VEVENT
BEGIN:VEVENT
DTSTART;TZID=UTC:20260123T083000
DTEND;TZID=UTC:20260123T170000
DTSTAMP:20260420T023402
CREATED:20251210T215136Z
LAST-MODIFIED:20251210T215136Z
UID:62584-1769157000-1769187600@empowerhai.com
SUMMARY:Intense Pulse Light - Hands On
DESCRIPTION:Hands On IPL gives providers practical\, supervised experience using IPL devices on live models so they can master settings\, safety\, and treatment technique with confidence.
URL:https://empowerhai.com/course/intense-pulse-light-hands-on-17/
ORGANIZER;CN="Tim Seekely":MAILTO:info@empowerhai.com
END:VEVENT
BEGIN:VEVENT
DTSTART;TZID=UTC:20260126T083000
DTEND;TZID=UTC:20260126T123000
DTSTAMP:20260420T023402
CREATED:20251210T215657Z
LAST-MODIFIED:20251210T215657Z
UID:62596-1769416200-1769430600@empowerhai.com
SUMMARY:Microdermabrasion
DESCRIPTION:The Dermaplane & Microdermabrasion Seminar provides students didactic and hands-on training with a Seminar curriculum is designed and implemented to provide students with appropriate training on treatment guidelines and technique.
URL:https://empowerhai.com/course/microdermabrasion-16/
ORGANIZER;CN="Tim Seekely":MAILTO:info@empowerhai.com
END:VEVENT
BEGIN:VEVENT
DTSTART;TZID=UTC:20260126T130000
DTEND;TZID=UTC:20260126T170000
DTSTAMP:20260420T023402
CREATED:20251210T220013Z
LAST-MODIFIED:20251210T220013Z
UID:62608-1769432400-1769446800@empowerhai.com
SUMMARY:Dermaplaning
DESCRIPTION:The Dermaplane & Microdermabrasion Seminar provides students didactic and hands-on training with a Seminar curriculum is designed and implemented to provide students with appropriate training on treatment guidelines and technique.
URL:https://empowerhai.com/course/dermaplaning-16/
ORGANIZER;CN="Tim Seekely":MAILTO:info@empowerhai.com
END:VEVENT
BEGIN:VEVENT
DTSTART;TZID=UTC:20260127T083000
DTEND;TZID=UTC:20260127T123000
DTSTAMP:20260420T023402
CREATED:20251210T220057Z
LAST-MODIFIED:20251210T220057Z
UID:62620-1769502600-1769517000@empowerhai.com
SUMMARY:Tattoo Removal
DESCRIPTION:Tattoo Removal teaches providers how to assess ink composition\, select proper laser settings\, and perform safe\, effective treatments that clear unwanted pigment with minimal skin damage.
URL:https://empowerhai.com/course/tattoo-removal-17/
ORGANIZER;CN="Tim Seekely":MAILTO:info@empowerhai.com
END:VEVENT
END:VCALENDAR