BEGIN:VCALENDAR
VERSION:2.0
PRODID:-//Empower Health and Aesthetic Institute - ECPv6.15.20//NONSGML v1.0//EN
CALSCALE:GREGORIAN
METHOD:PUBLISH
X-ORIGINAL-URL:https://empowerhai.com
X-WR-CALDESC:Events for Empower Health and Aesthetic Institute
REFRESH-INTERVAL;VALUE=DURATION:PT1H
X-Robots-Tag:noindex
X-PUBLISHED-TTL:PT1H
BEGIN:VTIMEZONE
TZID:UTC
BEGIN:STANDARD
TZOFFSETFROM:+0000
TZOFFSETTO:+0000
TZNAME:UTC
DTSTART:20240101T000000
END:STANDARD
END:VTIMEZONE
BEGIN:VEVENT
DTSTART;TZID=UTC:20251028T083000
DTEND;TZID=UTC:20251028T123000
DTSTAMP:20260420T143449
CREATED:20250528T011131Z
LAST-MODIFIED:20250528T011131Z
UID:62136-1761640200-1761654600@empowerhai.com
SUMMARY:Tattoo Removal
DESCRIPTION:
URL:https://empowerhai.com/course/tattoo-removal-14/
LOCATION:TX
CATEGORIES:Course
END:VEVENT
BEGIN:VEVENT
DTSTART;TZID=UTC:20251028T130000
DTEND;TZID=UTC:20251028T170000
DTSTAMP:20260420T143449
CREATED:20250528T011132Z
LAST-MODIFIED:20250528T011132Z
UID:62137-1761656400-1761670800@empowerhai.com
SUMMARY:Advanced Waxing Didactic
DESCRIPTION:
URL:https://empowerhai.com/course/advanced-waxing-didactic-13/
LOCATION:TX
CATEGORIES:Course
END:VEVENT
BEGIN:VEVENT
DTSTART;TZID=UTC:20251029T083000
DTEND;TZID=UTC:20251029T123000
DTSTAMP:20260420T143449
CREATED:20250528T011132Z
LAST-MODIFIED:20250528T011132Z
UID:62138-1761726600-1761741000@empowerhai.com
SUMMARY:Advanced Waxing Hands-On
DESCRIPTION:
URL:https://empowerhai.com/course/advanced-waxing-hands-on-13/
LOCATION:TX
CATEGORIES:Course
END:VEVENT
END:VCALENDAR