BEGIN:VCALENDAR
VERSION:2.0
PRODID:-//Empower Health and Aesthetic Institute - ECPv6.15.20//NONSGML v1.0//EN
CALSCALE:GREGORIAN
METHOD:PUBLISH
X-WR-CALNAME:Empower Health and Aesthetic Institute
X-ORIGINAL-URL:https://empowerhai.com
X-WR-CALDESC:Events for Empower Health and Aesthetic Institute
REFRESH-INTERVAL;VALUE=DURATION:PT1H
X-Robots-Tag:noindex
X-PUBLISHED-TTL:PT1H
BEGIN:VTIMEZONE
TZID:UTC
BEGIN:STANDARD
TZOFFSETFROM:+0000
TZOFFSETTO:+0000
TZNAME:UTC
DTSTART:20250101T000000
END:STANDARD
END:VTIMEZONE
BEGIN:VEVENT
DTSTART;TZID=UTC:20260421T083000
DTEND;TZID=UTC:20260421T123000
DTSTAMP:20260421T025924
CREATED:20251210T214850Z
LAST-MODIFIED:20251210T214850Z
UID:62522-1776760200-1776774600@empowerhai.com
SUMMARY:Chemical Peels
DESCRIPTION:The Medical Grade Chemical Peels Course provides students didactic and hands-on training with a Course curriculum is designed and implemented to provide students with appropriate training on treatment guidelines and technique.
URL:https://empowerhai.com/course/chemical-peels-16/
ORGANIZER;CN="Tim Seekely":MAILTO:info@empowerhai.com
END:VEVENT
BEGIN:VEVENT
DTSTART;TZID=UTC:20260421T130000
DTEND;TZID=UTC:20260421T170000
DTSTAMP:20260421T025924
CREATED:20251210T214921Z
LAST-MODIFIED:20251210T214921Z
UID:62539-1776776400-1776790800@empowerhai.com
SUMMARY:Fibroblast
DESCRIPTION:The Fibroblast Seminar provides students didactic and hands-on training with a curriculum designed and implemented to provide students with appropriate training on Fibroblast treatment guidelines.
URL:https://empowerhai.com/course/fibroblast-16/
ORGANIZER;CN="Tim Seekely":MAILTO:info@empowerhai.com
END:VEVENT
END:VCALENDAR