BEGIN:VCALENDAR
VERSION:2.0
PRODID:-//Empower Health and Aesthetic Institute - ECPv6.15.20//NONSGML v1.0//EN
CALSCALE:GREGORIAN
METHOD:PUBLISH
X-WR-CALNAME:Empower Health and Aesthetic Institute
X-ORIGINAL-URL:https://empowerhai.com
X-WR-CALDESC:Events for Empower Health and Aesthetic Institute
REFRESH-INTERVAL;VALUE=DURATION:PT1H
X-Robots-Tag:noindex
X-PUBLISHED-TTL:PT1H
BEGIN:VTIMEZONE
TZID:UTC
BEGIN:STANDARD
TZOFFSETFROM:+0000
TZOFFSETTO:+0000
TZNAME:UTC
DTSTART:20250101T000000
END:STANDARD
END:VTIMEZONE
BEGIN:VEVENT
DTSTART;TZID=UTC:20260420T083000
DTEND;TZID=UTC:20260420T123000
DTSTAMP:20260420T092212
CREATED:20251210T214802Z
LAST-MODIFIED:20251210T214802Z
UID:62498-1776673800-1776688200@empowerhai.com
SUMMARY:Microneedling
DESCRIPTION:The Fibroblast Seminar provides students didactic and hands-on training with a curriculum designed and implemented to provide students with appropriate training on Fibroblast treatment guidelines.
URL:https://empowerhai.com/course/microneedling-16/
ORGANIZER;CN="Tim Seekely":MAILTO:info@empowerhai.com
END:VEVENT
BEGIN:VEVENT
DTSTART;TZID=UTC:20260420T130000
DTEND;TZID=UTC:20260420T170000
DTSTAMP:20260420T092212
CREATED:20251210T214820Z
LAST-MODIFIED:20251210T214820Z
UID:62510-1776690000-1776704400@empowerhai.com
SUMMARY:Hydrafacial
DESCRIPTION:The Hydrafacial Course provides students didactic and hands-on training with a Course curriculum is designed and implemented to provide students with appropriate training on treatment guidelines and technique.
URL:https://empowerhai.com/course/hydrafacial-16/
ORGANIZER;CN="Tim Seekely":MAILTO:info@empowerhai.com
END:VEVENT
END:VCALENDAR